BEGIN:VCALENDAR
VERSION:2.0
PRODID:-//Jeep Talk Show - ECPv6.15.20//NONSGML v1.0//EN
CALSCALE:GREGORIAN
METHOD:PUBLISH
X-ORIGINAL-URL:https://jeeptalkshow.com
X-WR-CALDESC:Events for Jeep Talk Show
REFRESH-INTERVAL;VALUE=DURATION:PT1H
X-Robots-Tag:noindex
X-PUBLISHED-TTL:PT1H
BEGIN:VTIMEZONE
TZID:America/Chicago
BEGIN:DAYLIGHT
TZOFFSETFROM:-0600
TZOFFSETTO:-0500
TZNAME:CDT
DTSTART:20220313T080000
END:DAYLIGHT
BEGIN:STANDARD
TZOFFSETFROM:-0500
TZOFFSETTO:-0600
TZNAME:CST
DTSTART:20221106T070000
END:STANDARD
BEGIN:DAYLIGHT
TZOFFSETFROM:-0600
TZOFFSETTO:-0500
TZNAME:CDT
DTSTART:20230312T080000
END:DAYLIGHT
BEGIN:STANDARD
TZOFFSETFROM:-0500
TZOFFSETTO:-0600
TZNAME:CST
DTSTART:20231105T070000
END:STANDARD
BEGIN:DAYLIGHT
TZOFFSETFROM:-0600
TZOFFSETTO:-0500
TZNAME:CDT
DTSTART:20240310T080000
END:DAYLIGHT
BEGIN:STANDARD
TZOFFSETFROM:-0500
TZOFFSETTO:-0600
TZNAME:CST
DTSTART:20241103T070000
END:STANDARD
BEGIN:DAYLIGHT
TZOFFSETFROM:-0600
TZOFFSETTO:-0500
TZNAME:CDT
DTSTART:20250309T080000
END:DAYLIGHT
BEGIN:STANDARD
TZOFFSETFROM:-0500
TZOFFSETTO:-0600
TZNAME:CST
DTSTART:20251102T070000
END:STANDARD
END:VTIMEZONE
BEGIN:VEVENT
DTSTART;TZID=America/Chicago:20240323T080000
DTEND;TZID=America/Chicago:20240331T170000
DTSTAMP:20260423T104826
CREATED:20230617T160438Z
LAST-MODIFIED:20230617T163234Z
UID:12841-1711180800-1711904400@jeeptalkshow.com
SUMMARY:Easter Jeep Safari
DESCRIPTION:EJS was great in 2023. Mark your calendars to join the JTS Team Members for another fun experience at the show and on the trails! \nPlease shareTweetShare on Tumblr\n				Email a link to a friend (Opens in new window)\n				Email\n			\n				Print (Opens in new window)\n				Print\n			Like this:Like Loading...
URL:https://jeeptalkshow.com/event/easter-jeep-safari-2/
LOCATION:Moab\, Utah
ATTACH;FMTTYPE=image/jpeg:https://jeeptalkshow.com/wp-content/uploads/2023/06/EJS-group.jpg
END:VEVENT
BEGIN:VEVENT
DTSTART;TZID=America/Chicago:20231031T080000
DTEND;TZID=America/Chicago:20231103T170000
DTSTAMP:20260423T104826
CREATED:20230617T150925Z
LAST-MODIFIED:20230617T161952Z
UID:12832-1698739200-1699030800@jeeptalkshow.com
SUMMARY:SEMA Show
DESCRIPTION:Several team members\, including our host Tony\, are planning to attend SEMA this year. Please watch for updates as we confirm which JTS people will be there in our “sexy” red hats! \nPlease shareTweetShare on Tumblr\n				Email a link to a friend (Opens in new window)\n				Email\n			\n				Print (Opens in new window)\n				Print\n			Like this:Like Loading...
URL:https://jeeptalkshow.com/event/sema-show/
LOCATION:Las Vegas Convention Center\, Las Vegas\, Nevada
ATTACH;FMTTYPE=image/jpeg:https://jeeptalkshow.com/wp-content/uploads/2023/06/SEMA.jpg
END:VEVENT
BEGIN:VEVENT
DTSTART;TZID=America/Chicago:20231020T080000
DTEND;TZID=America/Chicago:20231022T170000
DTSTAMP:20260423T104826
CREATED:20230617T151646Z
LAST-MODIFIED:20230617T162423Z
UID:12837-1697788800-1697994000@jeeptalkshow.com
SUMMARY:Myrtle Beach Jeep Jam
DESCRIPTION:Come out for fun in the sun with a few of our JTS Team Members. Travis and JulieAnne are planning to attend. \nPlease shareTweetShare on Tumblr\n				Email a link to a friend (Opens in new window)\n				Email\n			\n				Print (Opens in new window)\n				Print\n			Like this:Like Loading...
URL:https://jeeptalkshow.com/event/myrtle-beach-jeep-jam/
LOCATION:Myrtle Beach\, South Carolina
ATTACH;FMTTYPE=image/png:https://jeeptalkshow.com/wp-content/uploads/2023/06/Myrtle-Beach-Jeep-Jam.png
END:VEVENT
BEGIN:VEVENT
DTSTART;TZID=America/Chicago:20231014T080000
DTEND;TZID=America/Chicago:20231014T170000
DTSTAMP:20260423T104826
CREATED:20230609T000127Z
LAST-MODIFIED:20230609T000237Z
UID:12747-1697270400-1697302800@jeeptalkshow.com
SUMMARY:Rubber Duck Regatta & Jeep Festival
DESCRIPTION:This is the event that won Andrew a Jeep last year.  Bill went to the event\, and this year\, Bill\, Andrew and Tony are planning on going. \nPlease shareTweetShare on Tumblr\n				Email a link to a friend (Opens in new window)\n				Email\n			\n				Print (Opens in new window)\n				Print\n			Like this:Like Loading...
URL:https://jeeptalkshow.com/event/rubber-duck-regatta-jeep-festival/
LOCATION:The Harbor Rockwall\, 2059 Summer Lee Dr\, Rockwall\, tx\, 75032
ATTACH;FMTTYPE=image/png:https://jeeptalkshow.com/wp-content/uploads/2023/06/Screenshot-2023-06-08-185951.png
END:VEVENT
BEGIN:VEVENT
DTSTART;TZID=America/Chicago:20230824T080000
DTEND;TZID=America/Chicago:20230826T170000
DTSTAMP:20260423T104826
CREATED:20230617T145721Z
LAST-MODIFIED:20230617T162243Z
UID:12830-1692864000-1693069200@jeeptalkshow.com
SUMMARY:Smokey Mountain Jeep Invasion
DESCRIPTION:Come out and meet a few of the Jeep Talk Show team members. JulieAnne from Chic Chat & WranglHer will be there. Watch for updates of other team members attending. \nPlease shareTweetShare on Tumblr\n				Email a link to a friend (Opens in new window)\n				Email\n			\n				Print (Opens in new window)\n				Print\n			Like this:Like Loading...
URL:https://jeeptalkshow.com/event/smokey-mountain-jeep-invasion/
LOCATION:LeConte Center\, Pigeon Forge\, Tennessee
ATTACH;FMTTYPE=image/webp:https://jeeptalkshow.com/wp-content/uploads/2023/06/Smokey-Mountain-Jeep.webp
END:VEVENT
BEGIN:VEVENT
DTSTART;VALUE=DATE:20230804
DTEND;VALUE=DATE:20230807
DTSTAMP:20260423T104826
CREATED:20230607T133433Z
LAST-MODIFIED:20230608T191818Z
UID:12726-1691107200-1691366399@jeeptalkshow.com
SUMMARY:Toledo Jeep Fest 2023
DESCRIPTION:Come join Jeep Talk Show team and meet Chris at the event. \nGuest Acquisition JTS team member\, Chris and Julieanne from Wranglher are scheduled to be at Toledo Jeep Fest. \n \nPlease shareTweetShare on Tumblr\n				Email a link to a friend (Opens in new window)\n				Email\n			\n				Print (Opens in new window)\n				Print\n			Like this:Like Loading...
URL:https://jeeptalkshow.com/event/toledo-jeep-fest-2023/
LOCATION:Toledo Jeep Fest\, 401 Jefferson Ave\, Toledo\, OH\, 43604
ATTACH;FMTTYPE=image/jpeg:https://jeeptalkshow.com/wp-content/uploads/2023/06/Screenshot-2023-06-08-141001.jpg
END:VEVENT
BEGIN:VEVENT
DTSTART;TZID=America/Chicago:20230610T090000
DTEND;TZID=America/Chicago:20230610T190000
DTSTAMP:20260423T104826
CREATED:20230608T190442Z
LAST-MODIFIED:20230608T191956Z
UID:12736-1686387600-1686423600@jeeptalkshow.com
SUMMARY:Holly Oaks ORV Park
DESCRIPTION:Current JTS attendees\, Chris\, Steve O\, Tony Mitten\, perhaps more. \nPlease shareTweetShare on Tumblr\n				Email a link to a friend (Opens in new window)\n				Email\n			\n				Print (Opens in new window)\n				Print\n			Like this:Like Loading...
URL:https://jeeptalkshow.com/event/holly-oaks/
LOCATION:Holly Oaks ORV Park\, 14551 Shields Rd\,\, Holly\, MI\, 48442\, United States
ATTACH;FMTTYPE=image/jpeg:https://jeeptalkshow.com/wp-content/uploads/2023/06/Screenshot-2023-06-08-140824.jpg
END:VEVENT
BEGIN:VEVENT
DTSTART;TZID=America/Chicago:20230603T080000
DTEND;TZID=America/Chicago:20230603T220000
DTSTAMP:20260423T104826
CREATED:20230323T013422Z
LAST-MODIFIED:20230531T164234Z
UID:12159-1685779200-1685829600@jeeptalkshow.com
SUMMARY:JTS Off Road Event - Texas
DESCRIPTION:Fill out our form for the head count!\nScan this QR Code to get the trail maps \n \n \nLINK to map \nSchedule\n8am Hidden Falls – open come to Area B (HF map available at check in)  GMRS channel 21\n10am Start trail ride\nNoon-ish LUNCH – Area B (Food truck available)\n2pm 2nd run\n5pm Meet Area B – Q&A Meet and Greet\, etc…\n7pm – Night Run \nThe first year we had 15 to 18 Jeeps.  The second year we had 30.  Local and people from across the country!  Chuck\, JTS co-host\, came down last year and really was the focus of the event.  Brining multiple old Jeeps\, and food for everyone! \n  \n  \nBased on feedback we’re going to simplify it this year.  Our focus will be on wheeling\, eating lunch on the trail\, and lots of interaction.  Truly the best part of a Jeep event! \n  \nPlease shareTweetShare on Tumblr\n				Email a link to a friend (Opens in new window)\n				Email\n			\n				Print (Opens in new window)\n				Print\n			Like this:Like Loading...
URL:https://jeeptalkshow.com/event/jts-off-road-event-texas/
LOCATION:Hidden Falls Adventure Park\, 7030 RM 1431\, Marble Falls\, 78654\, United States
ATTACH;FMTTYPE=image/jpeg:https://jeeptalkshow.com/wp-content/uploads/2023/03/jts-ad1.jpg
ORGANIZER;CN="Jeep Talk Show":MAILTO:info@jeeptalkshow.com
END:VEVENT
BEGIN:VEVENT
DTSTART;VALUE=DATE:20230401
DTEND;VALUE=DATE:20230410
DTSTAMP:20260423T104827
CREATED:20230323T014527Z
LAST-MODIFIED:20230323T021654Z
UID:12166-1680307200-1681084799@jeeptalkshow.com
SUMMARY:JTS - Easter Jeep Safari
DESCRIPTION:Arrival date for Bill\, Larry and Tony is Sunday April 2nd. \nGMRS Channel 21 \nGoing to EJS from JTS \nJTS Team members\nBillATX\nFU Bob\nLarry JeepingMo\nchuck (def maybe) \nListeners\nRoger\nRoger’s wife\nDustin Canada (maybe)\nRich\nDutch\nMatt Gator88 \nJTS celebrities\nGreg Henderson Unofficial Use Only \nPlease shareTweetShare on Tumblr\n				Email a link to a friend (Opens in new window)\n				Email\n			\n				Print (Opens in new window)\n				Print\n			Like this:Like Loading...
URL:https://jeeptalkshow.com/event/easter-jeep-safari/
ATTACH;FMTTYPE=image/jpeg:https://jeeptalkshow.com/wp-content/uploads/2023/03/jts-ejs-16x9-1.jpg
END:VEVENT
BEGIN:VEVENT
DTSTART;TZID=America/Chicago:20230328T200000
DTEND;TZID=America/Chicago:20230328T210000
DTSTAMP:20260423T104827
CREATED:20230323T023724Z
LAST-MODIFIED:20230323T123733Z
UID:12176-1680033600-1680037200@jeeptalkshow.com
SUMMARY:Record Round Table Episode (787)
DESCRIPTION:We record the Round Table episode every Tuesday at 8pm CT.  We have between 15 and 20 participants each week.  We can support up to 100\, so invite anyone you think would enjoy a free flowing conversation between Jeepers! \nOf course it’s FREE and we want you to join in on the conversation! \nhttps://jeeptalkshow.com/roundtable password jeep \nZoom meeting starts about 7:30pm CT.  Show recording starts at 8pm CT \nPlease shareTweetShare on Tumblr\n				Email a link to a friend (Opens in new window)\n				Email\n			\n				Print (Opens in new window)\n				Print\n			Like this:Like Loading...
URL:https://jeeptalkshow.com/event/record-round-table-episode-787/
ATTACH;FMTTYPE=image/jpeg:https://jeeptalkshow.com/wp-content/uploads/2023/03/Roundtabletonight-1.jpg
ORGANIZER;CN="Jeep Talk Show":MAILTO:info@jeeptalkshow.com
END:VEVENT
END:VCALENDAR